BEGIN:VCALENDAR
VERSION:2.0
PRODID:-//Pro-ficiency - ECPv6.15.20//NONSGML v1.0//EN
CALSCALE:GREGORIAN
METHOD:PUBLISH
X-ORIGINAL-URL:https://www.pro-ficiency.com
X-WR-CALDESC:Events for Pro-ficiency
REFRESH-INTERVAL;VALUE=DURATION:PT1H
X-Robots-Tag:noindex
X-PUBLISHED-TTL:PT1H
BEGIN:VTIMEZONE
TZID:UTC
BEGIN:STANDARD
TZOFFSETFROM:+0000
TZOFFSETTO:+0000
TZNAME:UTC
DTSTART:20220101T000000
END:STANDARD
END:VTIMEZONE
BEGIN:VEVENT
DTSTART;TZID=UTC:20231101T080000
DTEND;TZID=UTC:20231102T170000
DTSTAMP:20260421T084534
CREATED:20231102T181336Z
LAST-MODIFIED:20231102T181611Z
UID:40351-1698825600-1698944400@www.pro-ficiency.com
SUMMARY:OCT New England
DESCRIPTION:This year’s Outsourcing in Clinical Trials New England event will boast 3 tracks on Clinical Operations and Outsourcing\, Clinical Technology and Innovation\, and Patient Recruitment and Engagement\, meaning for anyone involved in the operational aspects of running a clinical trial\, there truly is something for everyone. \n  \nMeet us at booth #59! \n 
URL:https://www.pro-ficiency.com/event/oct-new-england/
LOCATION:John B. Hynes Veterans Memorial Convention Centre\, Boston\, MA\, United States
ATTACH;FMTTYPE=image/png:https://www.pro-ficiency.com/wp-content/uploads/2023/11/Pro-ficiency_OCT_New_England_Social_Media_Banner_Dave_Steelley_Brad-1.png
END:VEVENT
END:VCALENDAR