BEGIN:VCALENDAR
VERSION:2.0
PRODID:-//Pro-ficiency - ECPv6.15.20//NONSGML v1.0//EN
CALSCALE:GREGORIAN
METHOD:PUBLISH
X-WR-CALNAME:Pro-ficiency
X-ORIGINAL-URL:https://www.pro-ficiency.com
X-WR-CALDESC:Events for Pro-ficiency
REFRESH-INTERVAL;VALUE=DURATION:PT1H
X-Robots-Tag:noindex
X-PUBLISHED-TTL:PT1H
BEGIN:VTIMEZONE
TZID:UTC
BEGIN:STANDARD
TZOFFSETFROM:+0000
TZOFFSETTO:+0000
TZNAME:UTC
DTSTART:20230101T000000
END:STANDARD
END:VTIMEZONE
BEGIN:VEVENT
DTSTART;TZID=UTC:20240206T080000
DTEND;TZID=UTC:20240207T170000
DTSTAMP:20260422T105902
CREATED:20231103T161945Z
LAST-MODIFIED:20231103T161945Z
UID:40376-1707206400-1707325200@www.pro-ficiency.com
SUMMARY:OCT West Coast
DESCRIPTION:16th Annual Outsourcing in Clinical Trials West Coast 2024!\nCreating a collaborative environment where pharma & biotech leaders can find solutions to their challenges through innovations and partnerships
URL:https://www.pro-ficiency.com/event/oct-west-coast/
LOCATION:Hyatt Regency San Francisco Airport\, San Francisco\, CA\, United States
ATTACH;FMTTYPE=image/png:https://www.pro-ficiency.com/wp-content/uploads/2023/11/Screenshot-2023-11-03-at-12.18.32 PM.png
END:VEVENT
BEGIN:VEVENT
DTSTART;TZID=UTC:20240211T080000
DTEND;TZID=UTC:20240214T170000
DTSTAMP:20260422T105902
CREATED:20231103T161541Z
LAST-MODIFIED:20231103T161615Z
UID:40371-1707638400-1707930000@www.pro-ficiency.com
SUMMARY:SCOPE
DESCRIPTION:Join us at SCOPE 2024! \nOver four stimulating days of in-depth discussions and networking in 28 different conferences\, a bustling exhibit hall with 200 companies\, 3 plenary keynote sessions\, the 8th annual Participant Engagement Awards\, the inaugural Site Innovation Award\, special cross-department panels\, the 3rd annual Master of Clinical Research golf tournament\, a Big Game Tailgate Party\, and a boutique investor conference\, the programming focuses on advances and innovative solutions in all aspects of clinical trial innovation\, planning\, management\, operations\, and investment. SCOPE welcomes more than 3\,300 attendees\, 850 different organizations\, from 27 countries\, in clinical operations\, clinical trials\, innovation\, and research.
URL:https://www.pro-ficiency.com/event/scope/
LOCATION:Rosen Shingle Creek\, Orlando\, FL\, United States
ATTACH;FMTTYPE=image/jpeg:https://www.pro-ficiency.com/wp-content/uploads/2023/11/scope.jpeg
END:VEVENT
BEGIN:VEVENT
DTSTART;TZID=UTC:20240528T080000
DTEND;TZID=UTC:20240529T200000
DTSTAMP:20260422T105902
CREATED:20240512T182053Z
LAST-MODIFIED:20240512T182053Z
UID:40668-1716883200-1717012800@www.pro-ficiency.com
SUMMARY:Global Clinical Trials Connect 2024
DESCRIPTION:
URL:https://www.pro-ficiency.com/event/global-clinical-trials-connect-2024/
LOCATION:Hilton London Kensington\, London\, United Kingdom\, Hilton London Kensington\, London\, United Kingdom
END:VEVENT
BEGIN:VEVENT
DTSTART;TZID=UTC:20240611T080000
DTEND;TZID=UTC:20240612T170000
DTSTAMP:20260422T105902
CREATED:20240512T182305Z
LAST-MODIFIED:20240512T182305Z
UID:40671-1718092800-1718211600@www.pro-ficiency.com
SUMMARY:OCT UK
DESCRIPTION:
URL:https://www.pro-ficiency.com/event/oct-uk/
LOCATION:London Hilton on Park Lane\, UK
END:VEVENT
END:VCALENDAR